BEGIN:VCALENDAR
VERSION:2.0
PRODID:-//Asómate al patio 2025 - ECPv6.1.2.2//NONSGML v1.0//EN
CALSCALE:GREGORIAN
METHOD:PUBLISH
X-ORIGINAL-URL:https://www.asomatealpatio.es
X-WR-CALDESC:Eventos para Asómate al patio 2025
REFRESH-INTERVAL;VALUE=DURATION:PT1H
X-Robots-Tag:noindex
X-PUBLISHED-TTL:PT1H
BEGIN:VTIMEZONE
TZID:Europe/Madrid
BEGIN:DAYLIGHT
TZOFFSETFROM:+0100
TZOFFSETTO:+0200
TZNAME:CEST
DTSTART:20180325T010000
END:DAYLIGHT
BEGIN:STANDARD
TZOFFSETFROM:+0200
TZOFFSETTO:+0100
TZNAME:CET
DTSTART:20181028T010000
END:STANDARD
END:VTIMEZONE
BEGIN:VEVENT
DTSTART;TZID=Europe/Madrid:20180812T221500
DTEND;TZID=Europe/Madrid:20180812T235900
DTSTAMP:20260425T052322
CREATED:20180620T075845Z
LAST-MODIFIED:20180620T080218Z
UID:3088-1534112100-1534118340@www.asomatealpatio.es
SUMMARY:Encadenados (Notorious)
DESCRIPTION:Director:ALFRED HITCHCOCK \nActores:CARY GRANT\, INGRID BERGMAN\, CLAUDE RAINS \nEdad :+14 años \nPaís: USA \nPrecio: 4€. \nCompra de entradas en Taquilla de Diputación abierta a las 21.30 horas
URL:https://www.asomatealpatio.es/pelicula/encadenados-notorious/
LOCATION:Patio de la Diputación\, Menéndez Pelayo\, 32\, Sevilla\, 41004\, España
CATEGORIES:clasico
ATTACH;FMTTYPE=image/jpeg:https://www.asomatealpatio.es/wp-content/uploads/2018/06/nototius.jpg
END:VEVENT
END:VCALENDAR